Workbook

Sheet Berekening incl. btw
C2: Schoolplanner
C4: https://www.cultuurconnect.be/diensten/schoolplanner
B7: Platform / regio :
B8: Verdeling opstartkost : | C8: Op maat | D8: ← vul per partner zelf het aandeel in de opstartkost in (kolom E, samen 100%)
B9: Startdatum op Schoolplanner : | C9: 46478 | D9: ← eerste maand waarin het platform live gaat voor de scholen
B10: Maanden licentie in opstartjaar : | C10: =IF(ISNUMBER(C9),12-MOD(MONTH(C9)-Parameters!$C$20,12),"") -> 5 | D10: berekend: van de startmaand t.e.m. het einde van het seizoen (augustus)
B11: Indexfactor toegepast : | C11: =IF(AND(ISNUMBER(C9),C9>=Parameters!$C$14),Parameters!$C$17,1) -> 1 | D11: berekend: 1,0000 vóór de indexeringsdatum, anders de indexfactor uit Parameters
B14: Partners op het platform | E14: Eénmalig (opstartkost) | G14: Licentie opstartjaar | H14: Totaal opstartjaar | J14: Jaarlijkse licentiekost (volledig seizoen, geïndexeerd)
B15: Organisatie | C15: Type organisatie | D15: Inschatting deelnemers scholenaanbod* | E15: Aandeel opstartkost (%) | F15: Opstartkost | G15: Licentie pro rata** | H15: Totaal opstartjaar | J15: Aandeel platform | K15: Kost per organisatie | L15: Variabel (deelnemers) | M15: Licentie volledig jaar | N15: Actief
F16: =IF(N16=0,0,ROUND(Parameters!$C$6*N(E16),2)) -> 0 | G16: =IF(OR(N16=0,$C$10=""),0,ROUND((J16+K16)*$C$10/12,2)) -> 0 | H16: =F16+G16 -> 0 | J16: =IF(N16=0,0,ROUND(Parameters!$C$7*$C$11*IF($D$28>0,N(D16)/$D$28,1/$N$28),2)) -> 0 | K16: =IF(N16=1,ROUND(Parameters!$C$8*$C$11,2),0) -> 0 | L16: =IF(N16=0,0,ROUND(N(D16)*Parameters!$C$9*$C$11,2)) -> 0 | M16: =J16+K16+L16 -> 0 | N16: =IF(OR(LEN(TRIM(B16&""))>0,N(D16)>0),1,0) -> 0
F17: =IF(N17=0,0,ROUND(Parameters!$C$6*N(E17),2)) -> 0 | G17: =IF(OR(N17=0,$C$10=""),0,ROUND((J17+K17)*$C$10/12,2)) -> 0 | H17: =F17+G17 -> 0 | J17: =IF(N17=0,0,ROUND(Parameters!$C$7*$C$11*IF($D$28>0,N(D17)/$D$28,1/$N$28),2)) -> 0 | K17: =IF(N17=1,ROUND(Parameters!$C$8*$C$11,2),0) -> 0 | L17: =IF(N17=0,0,ROUND(N(D17)*Parameters!$C$9*$C$11,2)) -> 0 | M17: =J17+K17+L17 -> 0 | N17: =IF(OR(LEN(TRIM(B17&""))>0,N(D17)>0),1,0) -> 0
F18: =IF(N18=0,0,ROUND(Parameters!$C$6*N(E18),2)) -> 0 | G18: =IF(OR(N18=0,$C$10=""),0,ROUND((J18+K18)*$C$10/12,2)) -> 0 | H18: =F18+G18 -> 0 | J18: =IF(N18=0,0,ROUND(Parameters!$C$7*$C$11*IF($D$28>0,N(D18)/$D$28,1/$N$28),2)) -> 0 | K18: =IF(N18=1,ROUND(Parameters!$C$8*$C$11,2),0) -> 0 | L18: =IF(N18=0,0,ROUND(N(D18)*Parameters!$C$9*$C$11,2)) -> 0 | M18: =J18+K18+L18 -> 0 | N18: =IF(OR(LEN(TRIM(B18&""))>0,N(D18)>0),1,0) -> 0
F19: =IF(N19=0,0,ROUND(Parameters!$C$6*N(E19),2)) -> 0 | G19: =IF(OR(N19=0,$C$10=""),0,ROUND((J19+K19)*$C$10/12,2)) -> 0 | H19: =F19+G19 -> 0 | J19: =IF(N19=0,0,ROUND(Parameters!$C$7*$C$11*IF($D$28>0,N(D19)/$D$28,1/$N$28),2)) -> 0 | K19: =IF(N19=1,ROUND(Parameters!$C$8*$C$11,2),0) -> 0 | L19: =IF(N19=0,0,ROUND(N(D19)*Parameters!$C$9*$C$11,2)) -> 0 | M19: =J19+K19+L19 -> 0 | N19: =IF(OR(LEN(TRIM(B19&""))>0,N(D19)>0),1,0) -> 0
F20: =IF(N20=0,0,ROUND(Parameters!$C$6*N(E20),2)) -> 0 | G20: =IF(OR(N20=0,$C$10=""),0,ROUND((J20+K20)*$C$10/12,2)) -> 0 | H20: =F20+G20 -> 0 | J20: =IF(N20=0,0,ROUND(Parameters!$C$7*$C$11*IF($D$28>0,N(D20)/$D$28,1/$N$28),2)) -> 0 | K20: =IF(N20=1,ROUND(Parameters!$C$8*$C$11,2),0) -> 0 | L20: =IF(N20=0,0,ROUND(N(D20)*Parameters!$C$9*$C$11,2)) -> 0 | M20: =J20+K20+L20 -> 0 | N20: =IF(OR(LEN(TRIM(B20&""))>0,N(D20)>0),1,0) -> 0
F21: =IF(N21=0,0,ROUND(Parameters!$C$6*N(E21),2)) -> 0 | G21: =IF(OR(N21=0,$C$10=""),0,ROUND((J21+K21)*$C$10/12,2)) -> 0 | H21: =F21+G21 -> 0 | J21: =IF(N21=0,0,ROUND(Parameters!$C$7*$C$11*IF($D$28>0,N(D21)/$D$28,1/$N$28),2)) -> 0 | K21: =IF(N21=1,ROUND(Parameters!$C$8*$C$11,2),0) -> 0 | L21: =IF(N21=0,0,ROUND(N(D21)*Parameters!$C$9*$C$11,2)) -> 0 | M21: =J21+K21+L21 -> 0 | N21: =IF(OR(LEN(TRIM(B21&""))>0,N(D21)>0),1,0) -> 0
F22: =IF(N22=0,0,ROUND(Parameters!$C$6*N(E22),2)) -> 0 | G22: =IF(OR(N22=0,$C$10=""),0,ROUND((J22+K22)*$C$10/12,2)) -> 0 | H22: =F22+G22 -> 0 | J22: =IF(N22=0,0,ROUND(Parameters!$C$7*$C$11*IF($D$28>0,N(D22)/$D$28,1/$N$28),2)) -> 0 | K22: =IF(N22=1,ROUND(Parameters!$C$8*$C$11,2),0) -> 0 | L22: =IF(N22=0,0,ROUND(N(D22)*Parameters!$C$9*$C$11,2)) -> 0 | M22: =J22+K22+L22 -> 0 | N22: =IF(OR(LEN(TRIM(B22&""))>0,N(D22)>0),1,0) -> 0
F23: =IF(N23=0,0,ROUND(Parameters!$C$6*N(E23),2)) -> 0 | G23: =IF(OR(N23=0,$C$10=""),0,ROUND((J23+K23)*$C$10/12,2)) -> 0 | H23: =F23+G23 -> 0 | J23: =IF(N23=0,0,ROUND(Parameters!$C$7*$C$11*IF($D$28>0,N(D23)/$D$28,1/$N$28),2)) -> 0 | K23: =IF(N23=1,ROUND(Parameters!$C$8*$C$11,2),0) -> 0 | L23: =IF(N23=0,0,ROUND(N(D23)*Parameters!$C$9*$C$11,2)) -> 0 | M23: =J23+K23+L23 -> 0 | N23: =IF(OR(LEN(TRIM(B23&""))>0,N(D23)>0),1,0) -> 0
F24: =IF(N24=0,0,ROUND(Parameters!$C$6*N(E24),2)) -> 0 | G24: =IF(OR(N24=0,$C$10=""),0,ROUND((J24+K24)*$C$10/12,2)) -> 0 | H24: =F24+G24 -> 0 | J24: =IF(N24=0,0,ROUND(Parameters!$C$7*$C$11*IF($D$28>0,N(D24)/$D$28,1/$N$28),2)) -> 0 | K24: =IF(N24=1,ROUND(Parameters!$C$8*$C$11,2),0) -> 0 | L24: =IF(N24=0,0,ROUND(N(D24)*Parameters!$C$9*$C$11,2)) -> 0 | M24: =J24+K24+L24 -> 0 | N24: =IF(OR(LEN(TRIM(B24&""))>0,N(D24)>0),1,0) -> 0
F25: =IF(N25=0,0,ROUND(Parameters!$C$6*N(E25),2)) -> 0 | G25: =IF(OR(N25=0,$C$10=""),0,ROUND((J25+K25)*$C$10/12,2)) -> 0 | H25: =F25+G25 -> 0 | J25: =IF(N25=0,0,ROUND(Parameters!$C$7*$C$11*IF($D$28>0,N(D25)/$D$28,1/$N$28),2)) -> 0 | K25: =IF(N25=1,ROUND(Parameters!$C$8*$C$11,2),0) -> 0 | L25: =IF(N25=0,0,ROUND(N(D25)*Parameters!$C$9*$C$11,2)) -> 0 | M25: =J25+K25+L25 -> 0 | N25: =IF(OR(LEN(TRIM(B25&""))>0,N(D25)>0),1,0) -> 0
F26: =IF(N26=0,0,ROUND(Parameters!$C$6*N(E26),2)) -> 0 | G26: =IF(OR(N26=0,$C$10=""),0,ROUND((J26+K26)*$C$10/12,2)) -> 0 | H26: =F26+G26 -> 0 | J26: =IF(N26=0,0,ROUND(Parameters!$C$7*$C$11*IF($D$28>0,N(D26)/$D$28,1/$N$28),2)) -> 0 | K26: =IF(N26=1,ROUND(Parameters!$C$8*$C$11,2),0) -> 0 | L26: =IF(N26=0,0,ROUND(N(D26)*Parameters!$C$9*$C$11,2)) -> 0 | M26: =J26+K26+L26 -> 0 | N26: =IF(OR(LEN(TRIM(B26&""))>0,N(D26)>0),1,0) -> 0
F27: =IF(N27=0,0,ROUND(Parameters!$C$6*N(E27),2)) -> 0 | G27: =IF(OR(N27=0,$C$10=""),0,ROUND((J27+K27)*$C$10/12,2)) -> 0 | H27: =F27+G27 -> 0 | J27: =IF(N27=0,0,ROUND(Parameters!$C$7*$C$11*IF($D$28>0,N(D27)/$D$28,1/$N$28),2)) -> 0 | K27: =IF(N27=1,ROUND(Parameters!$C$8*$C$11,2),0) -> 0 | L27: =IF(N27=0,0,ROUND(N(D27)*Parameters!$C$9*$C$11,2)) -> 0 | M27: =J27+K27+L27 -> 0 | N27: =IF(OR(LEN(TRIM(B27&""))>0,N(D27)>0),1,0) -> 0
B28: Totaal platform | C28: =SUM(N16:N27)&" organisatie(s)" -> 0 organisatie(s) | D28: =SUM(D16:D27) -> 0 | E28: =SUM(E16:E27) -> 0 | F28: =SUM(F16:F27) -> 0 | G28: =SUM(G16:G27) -> 0 | H28: =SUM(H16:H27) -> 0 | J28: =SUM(J16:J27) -> 0 | K28: =SUM(K16:K27) -> 0 | L28: =SUM(L16:L27) -> 0 | M28: =SUM(M16:M27) -> 0 | N28: =SUM(N16:N27) -> 0
B29: =IF(N28=0,"",TRIM(IF(ISNUMBER(C9),"","⚠ Vul een startdatum in: zonder startdatum wordt de licentie van het opstartjaar niet berekend. ")&IF(ROUND(E28,4)<>1,"⚠ Het aandeel in de opstartkost (kolom E) telt op tot "&ROUND(E28*100,1)&"% in plaats van 100%: vul de percentages aan.","")))
B30: * Bevestigde / effectieve deelnemers aan het scholenaanbod. Voor een bibliotheek: enkel activiteiten (workshops, auteurslezingen, tentoonstellingen), exclusief klasuitleen en bibliotheekintroducties. ** Licentie opstartjaar = enkel basisprijs platform + kost per organisatie, pro rata; het variabel deel (deelnemers) zit hier niet in.
B32: Samenvatting (alle partners samen)
B33: Schoolplanner – eénmalige opstartkost | G33: =F28 -> 0
B34: ="Schoolplanner – licentie opstartjaar (pro rata "&IF($C$10="","? (geen startdatum)",$C$10&" maand(en)")&", zonder variabel deel)" -> Schoolplanner – licentie opstartjaar (pro rata 5 maand(en), zonder variabel deel) | G34: =G28 -> 0
B35: Totaal opstartjaar (opstartkost + licentie pro rata) | G35: =H28 -> 0
B36: Jaarlijkse licentiekost volgende seizoenen (tarief op startdatum) | G36: =M28 -> 0 | H36: volgende seizoenen worden verder geïndexeerd
B39: Opmerking :
B40: ="Deze berekening is geldig tot en met "&Parameters!$C$11&"." -> Deze berekening is geldig tot en met 31 december 2026.
B41: Alle prijzen zijn steeds inclusief btw en afgerond op 2 decimalen per kostenonderdeel.
B42: ="Jaarlijkse kosten worden geïndexeerd vanaf "&DAY(Parameters!$C$14)&"/"&MONTH(Parameters!$C$14)&"/"&YEAR(Parameters!$C$14)&" (toegepaste indexfactor: "&ROUND($C$11,4)&")." -> Jaarlijkse kosten worden geïndexeerd vanaf 1/1/2027 (toegepaste indexfactor: 1).
B43: In het opstartjaar worden de basisprijs van het platform en de kost per organisatie pro rata per maand aangerekend (van de startmaand t.e.m. het einde van het seizoen, augustus). Het variabel deel (deelnemers) wordt niet pro rata aangerekend.
B44: Eén huis op een eigen platform: vul één organisatie in met 100% in kolom E; die draagt dan de volledige opstartkost en basisprijs (scenario A).
B45: Meerdere organisaties op een gedeeld platform: de opstartkost wordt verdeeld volgens de percentages in kolom E (samen 100%); de basisprijs wordt verdeeld pro rata de deelnemers (scenario B).
B46: Facturatie: aparte factuur per organisatie, 1x per jaar op het einde van het seizoen (zomer).

Sheet Berekening excl. btw
C2: Schoolplanner
C4: Berekeningstool prijsmodel – alle bedragen excl. btw
B7: Platform / regio : | C7: =IF('Berekening incl. btw'!C7="","",'Berekening incl. btw'!C7)
B8: Verdeling opstartkost : | C8: ='Berekening incl. btw'!C8 -> Op maat
B9: Startdatum op Schoolplanner : | C9: =IF('Berekening incl. btw'!C9="","",'Berekening incl. btw'!C9) -> 46478
B10: Maanden licentie in opstartjaar : | C10: ='Berekening incl. btw'!C10 -> 5
B11: Indexfactor toegepast : | C11: ='Berekening incl. btw'!C11 -> 1
B13: Alle invoer gebeurt op het tabblad 'Berekening incl. btw'; dit tabblad rekent dezelfde bedragen om naar excl. btw (afgerond op 2 decimalen).
B14: Partners op het platform | E14: Eénmalig (opstartkost) | G14: Licentie opstartjaar | I14: Jaarlijkse licentiekost (volledig seizoen, geïndexeerd)
B15: Organisatie | C15: Type organisatie | D15: ='Berekening incl. btw'!D15 -> Inschatting deelnemers scholenaanbod* | E15: ='Berekening incl. btw'!E15 -> Aandeel opstartkost (%) | F15: ='Berekening incl. btw'!F15 -> Opstartkost | G15: ='Berekening incl. btw'!G15 -> Licentie pro rata** | H15: ='Berekening incl. btw'!H15 -> Totaal opstartjaar | I15: ='Berekening incl. btw'!J15 -> Aandeel platform | J15: ='Berekening incl. btw'!K15 -> Kost per organisatie | K15: ='Berekening incl. btw'!L15 -> Variabel (deelnemers) | L15: ='Berekening incl. btw'!M15 -> Licentie volledig jaar | M15: ='Berekening incl. btw'!N15 -> Actief
B16: =IF('Berekening incl. btw'!B16="","",'Berekening incl. btw'!B16) | C16: =IF('Berekening incl. btw'!C16="","",'Berekening incl. btw'!C16) | D16: =IF('Berekening incl. btw'!D16="","",'Berekening incl. btw'!D16) | E16: =IF('Berekening incl. btw'!E16="","",'Berekening incl. btw'!E16) | F16: =ROUND('Berekening incl. btw'!F16/(1+Parameters!$C$10),2) -> 0 | G16: =ROUND('Berekening incl. btw'!G16/(1+Parameters!$C$10),2) -> 0 | H16: =F16+G16 -> 0 | I16: =ROUND('Berekening incl. btw'!J16/(1+Parameters!$C$10),2) -> 0 | J16: =ROUND('Berekening incl. btw'!K16/(1+Parameters!$C$10),2) -> 0 | K16: =ROUND('Berekening incl. btw'!L16/(1+Parameters!$C$10),2) -> 0 | L16: =I16+J16+K16 -> 0 | M16: ='Berekening incl. btw'!N16 -> 0
B17: =IF('Berekening incl. btw'!B17="","",'Berekening incl. btw'!B17) | C17: =IF('Berekening incl. btw'!C17="","",'Berekening incl. btw'!C17) | D17: =IF('Berekening incl. btw'!D17="","",'Berekening incl. btw'!D17) | E17: =IF('Berekening incl. btw'!E17="","",'Berekening incl. btw'!E17) | F17: =ROUND('Berekening incl. btw'!F17/(1+Parameters!$C$10),2) -> 0 | G17: =ROUND('Berekening incl. btw'!G17/(1+Parameters!$C$10),2) -> 0 | H17: =F17+G17 -> 0 | I17: =ROUND('Berekening incl. btw'!J17/(1+Parameters!$C$10),2) -> 0 | J17: =ROUND('Berekening incl. btw'!K17/(1+Parameters!$C$10),2) -> 0 | K17: =ROUND('Berekening incl. btw'!L17/(1+Parameters!$C$10),2) -> 0 | L17: =I17+J17+K17 -> 0 | M17: ='Berekening incl. btw'!N17 -> 0
B18: =IF('Berekening incl. btw'!B18="","",'Berekening incl. btw'!B18) | C18: =IF('Berekening incl. btw'!C18="","",'Berekening incl. btw'!C18) | D18: =IF('Berekening incl. btw'!D18="","",'Berekening incl. btw'!D18) | E18: =IF('Berekening incl. btw'!E18="","",'Berekening incl. btw'!E18) | F18: =ROUND('Berekening incl. btw'!F18/(1+Parameters!$C$10),2) -> 0 | G18: =ROUND('Berekening incl. btw'!G18/(1+Parameters!$C$10),2) -> 0 | H18: =F18+G18 -> 0 | I18: =ROUND('Berekening incl. btw'!J18/(1+Parameters!$C$10),2) -> 0 | J18: =ROUND('Berekening incl. btw'!K18/(1+Parameters!$C$10),2) -> 0 | K18: =ROUND('Berekening incl. btw'!L18/(1+Parameters!$C$10),2) -> 0 | L18: =I18+J18+K18 -> 0 | M18: ='Berekening incl. btw'!N18 -> 0
B19: =IF('Berekening incl. btw'!B19="","",'Berekening incl. btw'!B19) | C19: =IF('Berekening incl. btw'!C19="","",'Berekening incl. btw'!C19) | D19: =IF('Berekening incl. btw'!D19="","",'Berekening incl. btw'!D19) | E19: =IF('Berekening incl. btw'!E19="","",'Berekening incl. btw'!E19) | F19: =ROUND('Berekening incl. btw'!F19/(1+Parameters!$C$10),2) -> 0 | G19: =ROUND('Berekening incl. btw'!G19/(1+Parameters!$C$10),2) -> 0 | H19: =F19+G19 -> 0 | I19: =ROUND('Berekening incl. btw'!J19/(1+Parameters!$C$10),2) -> 0 | J19: =ROUND('Berekening incl. btw'!K19/(1+Parameters!$C$10),2) -> 0 | K19: =ROUND('Berekening incl. btw'!L19/(1+Parameters!$C$10),2) -> 0 | L19: =I19+J19+K19 -> 0 | M19: ='Berekening incl. btw'!N19 -> 0
B20: =IF('Berekening incl. btw'!B20="","",'Berekening incl. btw'!B20) | C20: =IF('Berekening incl. btw'!C20="","",'Berekening incl. btw'!C20) | D20: =IF('Berekening incl. btw'!D20="","",'Berekening incl. btw'!D20) | E20: =IF('Berekening incl. btw'!E20="","",'Berekening incl. btw'!E20) | F20: =ROUND('Berekening incl. btw'!F20/(1+Parameters!$C$10),2) -> 0 | G20: =ROUND('Berekening incl. btw'!G20/(1+Parameters!$C$10),2) -> 0 | H20: =F20+G20 -> 0 | I20: =ROUND('Berekening incl. btw'!J20/(1+Parameters!$C$10),2) -> 0 | J20: =ROUND('Berekening incl. btw'!K20/(1+Parameters!$C$10),2) -> 0 | K20: =ROUND('Berekening incl. btw'!L20/(1+Parameters!$C$10),2) -> 0 | L20: =I20+J20+K20 -> 0 | M20: ='Berekening incl. btw'!N20 -> 0
B21: =IF('Berekening incl. btw'!B21="","",'Berekening incl. btw'!B21) | C21: =IF('Berekening incl. btw'!C21="","",'Berekening incl. btw'!C21) | D21: =IF('Berekening incl. btw'!D21="","",'Berekening incl. btw'!D21) | E21: =IF('Berekening incl. btw'!E21="","",'Berekening incl. btw'!E21) | F21: =ROUND('Berekening incl. btw'!F21/(1+Parameters!$C$10),2) -> 0 | G21: =ROUND('Berekening incl. btw'!G21/(1+Parameters!$C$10),2) -> 0 | H21: =F21+G21 -> 0 | I21: =ROUND('Berekening incl. btw'!J21/(1+Parameters!$C$10),2) -> 0 | J21: =ROUND('Berekening incl. btw'!K21/(1+Parameters!$C$10),2) -> 0 | K21: =ROUND('Berekening incl. btw'!L21/(1+Parameters!$C$10),2) -> 0 | L21: =I21+J21+K21 -> 0 | M21: ='Berekening incl. btw'!N21 -> 0
B22: =IF('Berekening incl. btw'!B22="","",'Berekening incl. btw'!B22) | C22: =IF('Berekening incl. btw'!C22="","",'Berekening incl. btw'!C22) | D22: =IF('Berekening incl. btw'!D22="","",'Berekening incl. btw'!D22) | E22: =IF('Berekening incl. btw'!E22="","",'Berekening incl. btw'!E22) | F22: =ROUND('Berekening incl. btw'!F22/(1+Parameters!$C$10),2) -> 0 | G22: =ROUND('Berekening incl. btw'!G22/(1+Parameters!$C$10),2) -> 0 | H22: =F22+G22 -> 0 | I22: =ROUND('Berekening incl. btw'!J22/(1+Parameters!$C$10),2) -> 0 | J22: =ROUND('Berekening incl. btw'!K22/(1+Parameters!$C$10),2) -> 0 | K22: =ROUND('Berekening incl. btw'!L22/(1+Parameters!$C$10),2) -> 0 | L22: =I22+J22+K22 -> 0 | M22: ='Berekening incl. btw'!N22 -> 0
B23: =IF('Berekening incl. btw'!B23="","",'Berekening incl. btw'!B23) | C23: =IF('Berekening incl. btw'!C23="","",'Berekening incl. btw'!C23) | D23: =IF('Berekening incl. btw'!D23="","",'Berekening incl. btw'!D23) | E23: =IF('Berekening incl. btw'!E23="","",'Berekening incl. btw'!E23) | F23: =ROUND('Berekening incl. btw'!F23/(1+Parameters!$C$10),2) -> 0 | G23: =ROUND('Berekening incl. btw'!G23/(1+Parameters!$C$10),2) -> 0 | H23: =F23+G23 -> 0 | I23: =ROUND('Berekening incl. btw'!J23/(1+Parameters!$C$10),2) -> 0 | J23: =ROUND('Berekening incl. btw'!K23/(1+Parameters!$C$10),2) -> 0 | K23: =ROUND('Berekening incl. btw'!L23/(1+Parameters!$C$10),2) -> 0 | L23: =I23+J23+K23 -> 0 | M23: ='Berekening incl. btw'!N23 -> 0
B24: =IF('Berekening incl. btw'!B24="","",'Berekening incl. btw'!B24) | C24: =IF('Berekening incl. btw'!C24="","",'Berekening incl. btw'!C24) | D24: =IF('Berekening incl. btw'!D24="","",'Berekening incl. btw'!D24) | E24: =IF('Berekening incl. btw'!E24="","",'Berekening incl. btw'!E24) | F24: =ROUND('Berekening incl. btw'!F24/(1+Parameters!$C$10),2) -> 0 | G24: =ROUND('Berekening incl. btw'!G24/(1+Parameters!$C$10),2) -> 0 | H24: =F24+G24 -> 0 | I24: =ROUND('Berekening incl. btw'!J24/(1+Parameters!$C$10),2) -> 0 | J24: =ROUND('Berekening incl. btw'!K24/(1+Parameters!$C$10),2) -> 0 | K24: =ROUND('Berekening incl. btw'!L24/(1+Parameters!$C$10),2) -> 0 | L24: =I24+J24+K24 -> 0 | M24: ='Berekening incl. btw'!N24 -> 0
B25: =IF('Berekening incl. btw'!B25="","",'Berekening incl. btw'!B25) | C25: =IF('Berekening incl. btw'!C25="","",'Berekening incl. btw'!C25) | D25: =IF('Berekening incl. btw'!D25="","",'Berekening incl. btw'!D25) | E25: =IF('Berekening incl. btw'!E25="","",'Berekening incl. btw'!E25) | F25: =ROUND('Berekening incl. btw'!F25/(1+Parameters!$C$10),2) -> 0 | G25: =ROUND('Berekening incl. btw'!G25/(1+Parameters!$C$10),2) -> 0 | H25: =F25+G25 -> 0 | I25: =ROUND('Berekening incl. btw'!J25/(1+Parameters!$C$10),2) -> 0 | J25: =ROUND('Berekening incl. btw'!K25/(1+Parameters!$C$10),2) -> 0 | K25: =ROUND('Berekening incl. btw'!L25/(1+Parameters!$C$10),2) -> 0 | L25: =I25+J25+K25 -> 0 | M25: ='Berekening incl. btw'!N25 -> 0
B26: =IF('Berekening incl. btw'!B26="","",'Berekening incl. btw'!B26) | C26: =IF('Berekening incl. btw'!C26="","",'Berekening incl. btw'!C26) | D26: =IF('Berekening incl. btw'!D26="","",'Berekening incl. btw'!D26) | E26: =IF('Berekening incl. btw'!E26="","",'Berekening incl. btw'!E26) | F26: =ROUND('Berekening incl. btw'!F26/(1+Parameters!$C$10),2) -> 0 | G26: =ROUND('Berekening incl. btw'!G26/(1+Parameters!$C$10),2) -> 0 | H26: =F26+G26 -> 0 | I26: =ROUND('Berekening incl. btw'!J26/(1+Parameters!$C$10),2) -> 0 | J26: =ROUND('Berekening incl. btw'!K26/(1+Parameters!$C$10),2) -> 0 | K26: =ROUND('Berekening incl. btw'!L26/(1+Parameters!$C$10),2) -> 0 | L26: =I26+J26+K26 -> 0 | M26: ='Berekening incl. btw'!N26 -> 0
B27: =IF('Berekening incl. btw'!B27="","",'Berekening incl. btw'!B27) | C27: =IF('Berekening incl. btw'!C27="","",'Berekening incl. btw'!C27) | D27: =IF('Berekening incl. btw'!D27="","",'Berekening incl. btw'!D27) | E27: =IF('Berekening incl. btw'!E27="","",'Berekening incl. btw'!E27) | F27: =ROUND('Berekening incl. btw'!F27/(1+Parameters!$C$10),2) -> 0 | G27: =ROUND('Berekening incl. btw'!G27/(1+Parameters!$C$10),2) -> 0 | H27: =F27+G27 -> 0 | I27: =ROUND('Berekening incl. btw'!J27/(1+Parameters!$C$10),2) -> 0 | J27: =ROUND('Berekening incl. btw'!K27/(1+Parameters!$C$10),2) -> 0 | K27: =ROUND('Berekening incl. btw'!L27/(1+Parameters!$C$10),2) -> 0 | L27: =I27+J27+K27 -> 0 | M27: ='Berekening incl. btw'!N27 -> 0
B28: Totaal platform | C28: =SUM(M16:M27)&" organisatie(s)" -> 0 organisatie(s) | D28: =SUM(D16:D27) -> 0 | E28: =SUM(E16:E27) -> 0 | F28: =SUM(F16:F27) -> 0 | G28: =SUM(G16:G27) -> 0 | H28: =SUM(H16:H27) -> 0 | I28: =SUM(I16:I27) -> 0 | J28: =SUM(J16:J27) -> 0 | K28: =SUM(K16:K27) -> 0 | ... M28: =SUM(M16:M27) -> 0
B29: =IF(M28=0,"",TRIM(IF(ISNUMBER(C9),"","⚠ Vul een startdatum in: zonder startdatum wordt de licentie van het opstartjaar niet berekend. ")&IF(ROUND(E28,4)<>1,"⚠ Het aandeel in de opstartkost (kolom E) telt op tot "&ROUND(E28*100,1)&"% in plaats van 100%: vul de percentages aan.","")))
B30: * Bevestigde / effectieve deelnemers aan het scholenaanbod. Voor een bibliotheek: enkel activiteiten (workshops, auteurslezingen, tentoonstellingen), exclusief klasuitleen en bibliotheekintroducties. ** Licentie opstartjaar = enkel basisprijs platform + kost per organisatie, pro rata; het variabel deel (deelnemers) zit hier niet in.
B32: Samenvatting (alle partners samen)
B33: Schoolplanner – eénmalige opstartkost | G33: =F28 -> 0
B34: ="Schoolplanner – licentie opstartjaar (pro rata "&IF($C$10="","? (geen startdatum)",$C$10&" maand(en)")&", zonder variabel deel)" -> Schoolplanner – licentie opstartjaar (pro rata 5 maand(en), zonder variabel deel) | G34: =G28 -> 0
B35: Totaal opstartjaar (opstartkost + licentie pro rata) | G35: =H28 -> 0
B36: Jaarlijkse licentiekost volgende seizoenen (tarief op startdatum) | G36: =L28 -> 0 | H36: volgende seizoenen worden verder geïndexeerd
B39: Opmerking :
B40: ="Deze berekening is geldig tot en met "&Parameters!$C$11&"." -> Deze berekening is geldig tot en met 31 december 2026.
B41: Alle prijzen zijn steeds exclusief btw en afgerond op 2 decimalen per kostenonderdeel.
B42: ="Jaarlijkse kosten worden geïndexeerd vanaf "&DAY(Parameters!$C$14)&"/"&MONTH(Parameters!$C$14)&"/"&YEAR(Parameters!$C$14)&" (toegepaste indexfactor: "&ROUND($C$11,4)&")." -> Jaarlijkse kosten worden geïndexeerd vanaf 1/1/2027 (toegepaste indexfactor: 1).
B43: In het opstartjaar worden de basisprijs van het platform en de kost per organisatie pro rata per maand aangerekend (van de startmaand t.e.m. het einde van het seizoen, augustus). Het variabel deel (deelnemers) wordt niet pro rata aangerekend.
B44: Eén huis op een eigen platform: vul één organisatie in met 100% in kolom E; die draagt dan de volledige opstartkost en basisprijs (scenario A).
B45: Meerdere organisaties op een gedeeld platform: de opstartkost wordt verdeeld volgens de percentages in kolom E (samen 100%); de basisprijs wordt verdeeld pro rata de deelnemers (scenario B).
B46: Facturatie: aparte factuur per organisatie, 1x per jaar op het einde van het seizoen (zomer).

Sheet Parameters
B2: Schoolplanner – tariefparameters
B3: Tarieven incl. btw, prijspeil 2026. Pas enkel de gele cellen aan; alle berekeningen volgen automatisch.
B5: Tarieven (prijspeil 2026, incl. btw) | C5: Waarde | D5: Toelichting / bron
B6: Opstartkost per platform (eenmalig) | C6: 726 | D6: Verdeeld over de startende partners volgens de percentages die zij zelf invullen (kolom E, samen 100%). Niet geïndexeerd. Bron: webinar Ontdek Schoolplanner (12/10/2026), slide 17. | G6: Cultuurcentrum / podiumhuis
B7: Basisprijs per platform (jaarlijks) | C7: 1200 | D7: Verdeeld over de partners pro rata deelnemers aan het scholenaanbod. Bron: slide 18. | G7: Museum
B8: Kost per huis of organisatie (jaarlijks) | C8: 200 | D8: Vast bedrag per deelnemende organisatie op het platform. Bron: slide 18. | G8: Bibliotheek
B9: Kost per deelnemer scholenaanbod (jaarlijks) | C9: 0.11 | D9: Per bevestigde/effectieve deelnemer aan het scholenaanbod. Bron: slide 18. | G9: Andere organisatie
B10: Btw-tarief | C10: 0.21 | D10: Gebruikt om de bedragen excl. btw te berekenen (tarieven in de presentatie zijn incl. btw).
B11: Berekening geldig tot en met | C11: 31 december 2026 | D11: Aan te passen: de presentatie vermeldt geen geldigheidsdatum.
B13: Indexering | C13: Waarde | D13: Toelichting / bron
B14: Indexering van toepassing vanaf | C14: 46388 | D14: Jaarlijkse kosten (basisprijs platform, kost per organisatie, kost per deelnemer) worden geïndexeerd als de startdatum op of na deze datum valt.
B15: Basisindex (prijspeil 2026) | C15: 100 | D15: IN TE VULLEN: indexcijfer van de referentiemaand waarop de tarieven van 2026 gebaseerd zijn (bv. gezondheidsindex, zoals bij Jouw Stad Leest).
B16: Nieuwe index (vanaf indexeringsdatum) | C16: 100 | D16: IN TE VULLEN: indexcijfer van de referentiemaand voor de indexering op 1/1/2027.
B17: Indexfactor | C17: =IF(C15>0,C16/C15,1) -> 1 | D17: Berekend: nieuwe index / basisindex.
B19: Licentiejaar | C19: Waarde | D19: Toelichting / bron
B20: Eerste maand van het licentiejaar (seizoen) | C20: 9 | D20: Licentiejaar = seizoen van september (9) t.e.m. augustus, met facturatie op het einde van het seizoen. In het opstartjaar wordt de licentie pro rata per maand aangerekend, van de startmaand t.e.m. het einde van het seizoen.
B23: Facturatie (slide 23)
B24: • Eénmalig: opstartkost
B25: • Jaarlijks: licentiekost (in het opstartjaar pro rata per maand)
B26: • Aparte facturatie per organisatie
B27: • 1x per jaar, op het einde van het seizoen (zomer)
B28: • Alle bedragen worden afgerond op 2 decimalen (per kostenonderdeel).

Sheet Controle voorbeelden
B2: Controle: tool vs. voorbeelden uit de presentatie
B3: Berekend met de tarieven van prijspeil 2026 (zonder indexering) voor een volledig licentiejaar, en vergeleken met de afgeronde bedragen op de slides. Verschil 0 = tool klopt.
B5: A. Eén huis op één platform (slide 19)
B6: Huis | C6: Deelnemers | D6: Platform | E6: Kost per huis | F6: Variabel | G6: Licentie (tool) | H6: Licentie (slide) | I6: Verschil
B7: Den Ichter | C7: 2000 | D7: =ROUND(Parameters!$C$7,2) -> 1200 | E7: =ROUND(Parameters!$C$8,2) -> 200 | F7: =ROUND(C7*Parameters!$C$9,2) -> 220 | G7: =D7+E7+F7 -> 1620 | H7: 1620 | I7: =ROUND(G7,0)-H7 -> 0
B8: De Grote Post | C8: 3300 | D8: =ROUND(Parameters!$C$7,2) -> 1200 | E8: =ROUND(Parameters!$C$8,2) -> 200 | F8: =ROUND(C8*Parameters!$C$9,2) -> 363 | G8: =D8+E8+F8 -> 1763 | H8: 1763 | I8: =ROUND(G8,0)-H8 -> 0
B9: CC Brasschaat | C9: 3749 | D9: =ROUND(Parameters!$C$7,2) -> 1200 | E9: =ROUND(Parameters!$C$8,2) -> 200 | F9: =ROUND(C9*Parameters!$C$9,2) -> 412.39 | G9: =D9+E9+F9 -> 1812.39 | H9: 1812 | I9: =ROUND(G9,0)-H9 -> 0
B10: CC De Ploter | C10: 5500 | D10: =ROUND(Parameters!$C$7,2) -> 1200 | E10: =ROUND(Parameters!$C$8,2) -> 200 | F10: =ROUND(C10*Parameters!$C$9,2) -> 605 | G10: =D10+E10+F10 -> 2005 | H10: 2005 | I10: =ROUND(G10,0)-H10 -> 0
B11: CC De Herbakker | C11: 7000 | D11: =ROUND(Parameters!$C$7,2) -> 1200 | E11: =ROUND(Parameters!$C$8,2) -> 200 | F11: =ROUND(C11*Parameters!$C$9,2) -> 770 | G11: =D11+E11+F11 -> 2170 | H11: 2170 | I11: =ROUND(G11,0)-H11 -> 0
B12: CC Knokke-Heist | C12: 10000 | D12: =ROUND(Parameters!$C$7,2) -> 1200 | E12: =ROUND(Parameters!$C$8,2) -> 200 | F12: =ROUND(C12*Parameters!$C$9,2) -> 1100 | G12: =D12+E12+F12 -> 2500 | H12: 2500 | I12: =ROUND(G12,0)-H12 -> 0
B15: B. Gedeeld platform – Samenwerking Klein-Brabant (slide 21-22)
B16: Organisatie | C16: Deelnemers | D16: Aandeel platform | E16: Kost per org. | F16: Variabel | G16: Licentie (tool) | H16: Licentie (slide) | I16: Verschil
B17: CC Ter Dilft | C17: 7587 | D17: =ROUND(Parameters!$C$7*C17/SUM($C$17:$C$21),2) -> 701.04 | E17: =ROUND(Parameters!$C$8,2) -> 200 | F17: =ROUND(C17*Parameters!$C$9,2) -> 834.57 | G17: =D17+E17+F17 -> 1735.61 | H17: 1736 | I17: =ROUND(G17,0)-H17 -> 0
B18: cc Binder | C18: 3900 | D18: =ROUND(Parameters!$C$7*C18/SUM($C$17:$C$21),2) -> 360.36 | E18: =ROUND(Parameters!$C$8,2) -> 200 | F18: =ROUND(C18*Parameters!$C$9,2) -> 429 | G18: =D18+E18+F18 -> 989.36 | H18: 989 | I18: =ROUND(G18,0)-H18 -> 0
B19: Fort Liezele | C19: 500 | D19: =ROUND(Parameters!$C$7*C19/SUM($C$17:$C$21),2) -> 46.2 | E19: =ROUND(Parameters!$C$8,2) -> 200 | F19: =ROUND(C19*Parameters!$C$9,2) -> 55 | G19: =D19+E19+F19 -> 301.2 | H19: 301 | I19: =ROUND(G19,0)-H19 -> 0
B20: De Abdij | C20: 500 | D20: =ROUND(Parameters!$C$7*C20/SUM($C$17:$C$21),2) -> 46.2 | E20: =ROUND(Parameters!$C$8,2) -> 200 | F20: =ROUND(C20*Parameters!$C$9,2) -> 55 | G20: =D20+E20+F20 -> 301.2 | H20: 301 | I20: =ROUND(G20,0)-H20 -> 0
B21: De Bib | C21: 500 | D21: =ROUND(Parameters!$C$7*C21/SUM($C$17:$C$21),2) -> 46.2 | E21: =ROUND(Parameters!$C$8,2) -> 200 | F21: =ROUND(C21*Parameters!$C$9,2) -> 55 | G21: =D21+E21+F21 -> 301.2 | H21: 301 | I21: =ROUND(G21,0)-H21 -> 0
B22: Totaal | C22: =SUM(C17:C21) -> 12987 | D22: =SUM(D17:D21) -> 1200 | E22: =SUM(E17:E21) -> 1000 | F22: =SUM(F17:F21) -> 1428.57 | G22: =SUM(G17:G21) -> 3628.57 | H22: 3629 | I22: =ROUND(G22,0)-H22 -> 0
B24: Opmerking: de slides ronden af op hele euro's, de tool op 2 decimalen. De kolom 'Verschil' vergelijkt daarom het tool-bedrag afgerond op hele euro's.
B25: Blauwe cijfers = gegevens overgenomen uit de presentatie (inschattingen van de huidige deelnemers).
